BEGIN:VCALENDAR
VERSION:2.0
PRODID:-//St. Stephen&#039;s - ECPv6.15.20//NONSGML v1.0//EN
CALSCALE:GREGORIAN
METHOD:PUBLISH
X-WR-CALNAME:St. Stephen&#039;s
X-ORIGINAL-URL:https://ststephenschurch.org
X-WR-CALDESC:Events for St. Stephen&#039;s
REFRESH-INTERVAL;VALUE=DURATION:PT1H
X-Robots-Tag:noindex
X-PUBLISHED-TTL:PT1H
BEGIN:VTIMEZONE
TZID:America/Los_Angeles
BEGIN:DAYLIGHT
TZOFFSETFROM:-0800
TZOFFSETTO:-0700
TZNAME:PDT
DTSTART:20250309T100000
END:DAYLIGHT
BEGIN:STANDARD
TZOFFSETFROM:-0700
TZOFFSETTO:-0800
TZNAME:PST
DTSTART:20251102T090000
END:STANDARD
BEGIN:DAYLIGHT
TZOFFSETFROM:-0800
TZOFFSETTO:-0700
TZNAME:PDT
DTSTART:20260308T100000
END:DAYLIGHT
BEGIN:STANDARD
TZOFFSETFROM:-0700
TZOFFSETTO:-0800
TZNAME:PST
DTSTART:20261101T090000
END:STANDARD
BEGIN:DAYLIGHT
TZOFFSETFROM:-0800
TZOFFSETTO:-0700
TZNAME:PDT
DTSTART:20270314T100000
END:DAYLIGHT
BEGIN:STANDARD
TZOFFSETFROM:-0700
TZOFFSETTO:-0800
TZNAME:PST
DTSTART:20271107T090000
END:STANDARD
END:VTIMEZONE
BEGIN:VEVENT
DTSTART;TZID=America/Los_Angeles:20260502T090000
DTEND;TZID=America/Los_Angeles:20260502T110000
DTSTAMP:20260419T182414
CREATED:20260402T235430Z
LAST-MODIFIED:20260402T235430Z
UID:11878-1777712400-1777719600@ststephenschurch.org
SUMMARY:St. Stephen's Ladies Brunch
DESCRIPTION:Please join us for the spring St. Stephen’s Ladies Brunch at the SF Yacht Club on Saturday\, May 2nd 9am. The cost is $30. \nSeating is limited to the first 30 ladies\, so please sign up early! \nPlease contact Alex Norris for more information. (norris_alexandra@hotmail.com). There will be a waitlist\, so if your plans change\, please contact Alex. \n 
URL:https://ststephenschurch.org/event/st-stephens-ladies-brunch/
LOCATION:SF Yacht Club
CATEGORIES:Women's Group
END:VEVENT
END:VCALENDAR