BEGIN:VCALENDAR
VERSION:2.0
PRODID:-//St. Stephen&#039;s - ECPv6.15.20//NONSGML v1.0//EN
CALSCALE:GREGORIAN
METHOD:PUBLISH
X-WR-CALNAME:St. Stephen&#039;s
X-ORIGINAL-URL:https://ststephenschurch.org
X-WR-CALDESC:Events for St. Stephen&#039;s
REFRESH-INTERVAL;VALUE=DURATION:PT1H
X-Robots-Tag:noindex
X-PUBLISHED-TTL:PT1H
BEGIN:VTIMEZONE
TZID:America/Los_Angeles
BEGIN:DAYLIGHT
TZOFFSETFROM:-0800
TZOFFSETTO:-0700
TZNAME:PDT
DTSTART:20240310T100000
END:DAYLIGHT
BEGIN:STANDARD
TZOFFSETFROM:-0700
TZOFFSETTO:-0800
TZNAME:PST
DTSTART:20241103T090000
END:STANDARD
BEGIN:DAYLIGHT
TZOFFSETFROM:-0800
TZOFFSETTO:-0700
TZNAME:PDT
DTSTART:20250309T100000
END:DAYLIGHT
BEGIN:STANDARD
TZOFFSETFROM:-0700
TZOFFSETTO:-0800
TZNAME:PST
DTSTART:20251102T090000
END:STANDARD
BEGIN:DAYLIGHT
TZOFFSETFROM:-0800
TZOFFSETTO:-0700
TZNAME:PDT
DTSTART:20260308T100000
END:DAYLIGHT
BEGIN:STANDARD
TZOFFSETFROM:-0700
TZOFFSETTO:-0800
TZNAME:PST
DTSTART:20261101T090000
END:STANDARD
END:VTIMEZONE
BEGIN:VEVENT
DTSTART;TZID=America/Los_Angeles:20251109T113000
DTEND;TZID=America/Los_Angeles:20251109T123000
DTSTAMP:20260420T011625
CREATED:20250729T194636Z
LAST-MODIFIED:20250926T184218Z
UID:407-1762687800-1762691400@ststephenschurch.org
SUMMARY:Adult Forum: Read the Bible Like a Mystic
DESCRIPTION:Heather Findley will lead the discussion on Carl McColman’s book\, Read the Bible Like a Mystic.  McColman suggests four interpretive ways of reading Scripture: the literalist approach\, an agnostic or atheist approach\, the historical-critical approach\, and the mystical approach based on “the writings and teachings of Christian writers and thought leaders we have called mystics.” This should be an interesting counterpoint to the October discussion.
URL:https://ststephenschurch.org/event/adult-forum-read-the-bible-like-a-mystic/
CATEGORIES:Adult Formation
ATTACH;FMTTYPE=image/jpeg:https://ststephenschurch.org/wp-content/uploads/2025/07/read-the-bible-like-a-mystic.jpg
END:VEVENT
END:VCALENDAR