BEGIN:VCALENDAR
VERSION:2.0
PRODID:-//St. Stephen&#039;s - ECPv6.15.20//NONSGML v1.0//EN
CALSCALE:GREGORIAN
METHOD:PUBLISH
X-ORIGINAL-URL:https://ststephenschurch.org
X-WR-CALDESC:Events for St. Stephen&#039;s
REFRESH-INTERVAL;VALUE=DURATION:PT1H
X-Robots-Tag:noindex
X-PUBLISHED-TTL:PT1H
BEGIN:VTIMEZONE
TZID:America/Los_Angeles
BEGIN:DAYLIGHT
TZOFFSETFROM:-0800
TZOFFSETTO:-0700
TZNAME:PDT
DTSTART:20240310T100000
END:DAYLIGHT
BEGIN:STANDARD
TZOFFSETFROM:-0700
TZOFFSETTO:-0800
TZNAME:PST
DTSTART:20241103T090000
END:STANDARD
BEGIN:DAYLIGHT
TZOFFSETFROM:-0800
TZOFFSETTO:-0700
TZNAME:PDT
DTSTART:20250309T100000
END:DAYLIGHT
BEGIN:STANDARD
TZOFFSETFROM:-0700
TZOFFSETTO:-0800
TZNAME:PST
DTSTART:20251102T090000
END:STANDARD
BEGIN:DAYLIGHT
TZOFFSETFROM:-0800
TZOFFSETTO:-0700
TZNAME:PDT
DTSTART:20260308T100000
END:DAYLIGHT
BEGIN:STANDARD
TZOFFSETFROM:-0700
TZOFFSETTO:-0800
TZNAME:PST
DTSTART:20261101T090000
END:STANDARD
END:VTIMEZONE
BEGIN:VEVENT
DTSTART;TZID=America/Los_Angeles:20251102T080000
DTEND;TZID=America/Los_Angeles:20251102T090000
DTSTAMP:20260420T124056
CREATED:20250729T195012Z
LAST-MODIFIED:20251105T221620Z
UID:10000290-1762070400-1762074000@ststephenschurch.org
SUMMARY:Eucharist
DESCRIPTION:
URL:https://ststephenschurch.org/event/eucharist/2025-11-02/
CATEGORIES:Worship Service
END:VEVENT
BEGIN:VEVENT
DTSTART;TZID=America/Los_Angeles:20251102T100000
DTEND;TZID=America/Los_Angeles:20251102T110000
DTSTAMP:20260420T124056
CREATED:20250729T195102Z
LAST-MODIFIED:20250729T195102Z
UID:10000551-1762077600-1762081200@ststephenschurch.org
SUMMARY:Choral Eucharist
DESCRIPTION:
URL:https://ststephenschurch.org/event/choral-eucharist/2025-11-02/
CATEGORIES:Worship Service
END:VEVENT
BEGIN:VEVENT
DTSTART;TZID=America/Los_Angeles:20251102T160000
DTEND;TZID=America/Los_Angeles:20251102T170000
DTSTAMP:20260420T124056
CREATED:20250910T035950Z
LAST-MODIFIED:20251023T215158Z
UID:10000808-1762099200-1762102800@ststephenschurch.org
SUMMARY:The Duruflé Requeim
DESCRIPTION:Join the St. Stephen’s Choir & Orchestra in the Sanctuary for a quiet afternoon of reflection and remembrance. Dr. Brad Schultz\, organist/conductor
URL:https://ststephenschurch.org/event/concert/
LOCATION:3 Bayview Avenue\, Belvedere\, California\, 94920\, United States
CATEGORIES:Concerts,Music
ATTACH;FMTTYPE=image/jpeg:https://ststephenschurch.org/wp-content/uploads/2025/09/SSC-2025-Durufle-poster--scaled.jpg
END:VEVENT
BEGIN:VEVENT
DTSTART;TZID=America/Los_Angeles:20251105T083000
DTEND;TZID=America/Los_Angeles:20251105T093000
DTSTAMP:20260420T124056
CREATED:20250729T194856Z
LAST-MODIFIED:20250916T062605Z
UID:10000030-1762331400-1762335000@ststephenschurch.org
SUMMARY:Gospel Reflection Hour-virtual
DESCRIPTION:Are you interested in joining a Bible Study? St. Stephen’s offers a weekly session that requires no homework or ongoing obligation. Just bring your inquiring mind and an interest in reflecting upon the Gospel lesson for the upcoming Sunday. \nZoila Schoenbrun starts us off by reading the week’s Collect and Gospel lesson\, followed by time for personal reflection and ending with time for us to share our reactions\, questions\, and other thoughts. Kyle talked about this approach during our Lenten story-telling series – it is more than understanding the text intellectually\, it is about making the words of scripture relevant to our own lives. \nA group of 4 – 6 of us gets together at 8:30 am on Wednesday mornings via Zoom. \nPlease give it a try!  https://us02web.zoom.us/j/83156288483
URL:https://ststephenschurch.org/event/gospel-reflection-hour-virtual/2025-11-05/
CATEGORIES:Adult Formation
END:VEVENT
END:VCALENDAR