BEGIN:VCALENDAR
VERSION:2.0
PRODID:-//St. Stephen&#039;s - ECPv6.15.20//NONSGML v1.0//EN
CALSCALE:GREGORIAN
METHOD:PUBLISH
X-WR-CALNAME:St. Stephen&#039;s
X-ORIGINAL-URL:https://ststephenschurch.org
X-WR-CALDESC:Events for St. Stephen&#039;s
REFRESH-INTERVAL;VALUE=DURATION:PT1H
X-Robots-Tag:noindex
X-PUBLISHED-TTL:PT1H
BEGIN:VTIMEZONE
TZID:America/Los_Angeles
BEGIN:DAYLIGHT
TZOFFSETFROM:-0800
TZOFFSETTO:-0700
TZNAME:PDT
DTSTART:20240310T100000
END:DAYLIGHT
BEGIN:STANDARD
TZOFFSETFROM:-0700
TZOFFSETTO:-0800
TZNAME:PST
DTSTART:20241103T090000
END:STANDARD
BEGIN:DAYLIGHT
TZOFFSETFROM:-0800
TZOFFSETTO:-0700
TZNAME:PDT
DTSTART:20250309T100000
END:DAYLIGHT
BEGIN:STANDARD
TZOFFSETFROM:-0700
TZOFFSETTO:-0800
TZNAME:PST
DTSTART:20251102T090000
END:STANDARD
BEGIN:DAYLIGHT
TZOFFSETFROM:-0800
TZOFFSETTO:-0700
TZNAME:PDT
DTSTART:20260308T100000
END:DAYLIGHT
BEGIN:STANDARD
TZOFFSETFROM:-0700
TZOFFSETTO:-0800
TZNAME:PST
DTSTART:20261101T090000
END:STANDARD
BEGIN:DAYLIGHT
TZOFFSETFROM:-0800
TZOFFSETTO:-0700
TZNAME:PDT
DTSTART:20270314T100000
END:DAYLIGHT
BEGIN:STANDARD
TZOFFSETFROM:-0700
TZOFFSETTO:-0800
TZNAME:PST
DTSTART:20271107T090000
END:STANDARD
END:VTIMEZONE
BEGIN:VEVENT
DTSTART;TZID=America/Los_Angeles:20260201T100000
DTEND;TZID=America/Los_Angeles:20260201T110000
DTSTAMP:20260420T122741
CREATED:20250729T195102Z
LAST-MODIFIED:20250729T195102Z
UID:10000564-1769940000-1769943600@ststephenschurch.org
SUMMARY:Choral Eucharist
DESCRIPTION:
URL:https://ststephenschurch.org/event/choral-eucharist/2026-02-01/
CATEGORIES:Worship Service
END:VEVENT
BEGIN:VEVENT
DTSTART;TZID=America/Los_Angeles:20260201T080000
DTEND;TZID=America/Los_Angeles:20260201T090000
DTSTAMP:20260420T122741
CREATED:20250729T195012Z
LAST-MODIFIED:20251105T221620Z
UID:10000303-1769932800-1769936400@ststephenschurch.org
SUMMARY:Eucharist
DESCRIPTION:
URL:https://ststephenschurch.org/event/eucharist/2026-02-01/
CATEGORIES:Worship Service
END:VEVENT
BEGIN:VEVENT
DTSTART;TZID=America/Los_Angeles:20260128T083000
DTEND;TZID=America/Los_Angeles:20260128T093000
DTSTAMP:20260420T122741
CREATED:20251217T192518Z
LAST-MODIFIED:20251217T192520Z
UID:10000042-1769589000-1769592600@ststephenschurch.org
SUMMARY:Gospel Reflection Hour-virtual
DESCRIPTION:Are you interested in joining a Bible Study? St. Stephen’s offers a weekly session that requires no homework or ongoing obligation. Just bring your inquiring mind and an interest in reflecting upon the Gospel lesson for the upcoming Sunday. \nZoila Schoenbrun starts us off by reading the week’s Collect and Gospel lesson\, followed by time for personal reflection and ending with time for us to share our reactions\, questions\, and other thoughts. Kyle talked about this approach during our Lenten story-telling series – it is more than understanding the text intellectually\, it is about making the words of scripture relevant to our own lives. \nA group of 4 – 6 of us gets together at 8:30 am on Wednesday mornings via Zoom. \nPlease give it a try!  https://us02web.zoom.us/j/83156288483
URL:https://ststephenschurch.org/event/gospel-reflection-hour-virtual-2/2026-01-28/
CATEGORIES:Adult Formation
END:VEVENT
BEGIN:VEVENT
DTSTART;TZID=America/Los_Angeles:20260125T100000
DTEND;TZID=America/Los_Angeles:20260125T110000
DTSTAMP:20260420T122741
CREATED:20250729T195102Z
LAST-MODIFIED:20250729T195102Z
UID:10000563-1769335200-1769338800@ststephenschurch.org
SUMMARY:Choral Eucharist
DESCRIPTION:
URL:https://ststephenschurch.org/event/choral-eucharist/2026-01-25/
CATEGORIES:Worship Service
END:VEVENT
BEGIN:VEVENT
DTSTART;TZID=America/Los_Angeles:20260125T080000
DTEND;TZID=America/Los_Angeles:20260125T090000
DTSTAMP:20260420T122741
CREATED:20250729T195012Z
LAST-MODIFIED:20251105T221620Z
UID:10000302-1769328000-1769331600@ststephenschurch.org
SUMMARY:Eucharist
DESCRIPTION:
URL:https://ststephenschurch.org/event/eucharist/2026-01-25/
CATEGORIES:Worship Service
END:VEVENT
BEGIN:VEVENT
DTSTART;TZID=America/Los_Angeles:20260121T190000
DTEND;TZID=America/Los_Angeles:20260121T203000
DTSTAMP:20260420T122741
CREATED:20251112T201303Z
LAST-MODIFIED:20260108T183136Z
UID:10000845-1769022000-1769027400@ststephenschurch.org
SUMMARY:Women on Wednesday: Book Swap
DESCRIPTION:Join us in Kimball Hall on Wednesday\, January 21\, and bring along a book you’ve enjoyed and are ready to pass on to another appreciative reader. It’s a wonderful way to discover new titles\, refresh your reading list for 2026\, and enjoy a relaxed evening in good company. \nAnd if reading isn’t really your thing—or you’re strictly a digital reader these days—please come anyway! This evening is just as much about connection and conversation as it is about books. Guests are very welcome too; it’s a lovely introduction to the warmth and hospitality St. Stephen’s is known for. \nWe’ll gather at 7:00 p.m. and wrap up before 8:30 p.m.—and no one will leave empty-handed. \nRSVPs are appreciated. Karen Gullett (karennelsong@gmail.com)
URL:https://ststephenschurch.org/event/women-on-wednesday-santa-surprise-returns/
CATEGORIES:Women's Group
ATTACH;FMTTYPE=image/jpeg:https://ststephenschurch.org/wp-content/uploads/2025/11/Book-Swap-January-2026.jpg
END:VEVENT
BEGIN:VEVENT
DTSTART;TZID=America/Los_Angeles:20260121T083000
DTEND;TZID=America/Los_Angeles:20260121T093000
DTSTAMP:20260420T122741
CREATED:20251217T192518Z
LAST-MODIFIED:20251217T192520Z
UID:10000041-1768984200-1768987800@ststephenschurch.org
SUMMARY:Gospel Reflection Hour-virtual
DESCRIPTION:Are you interested in joining a Bible Study? St. Stephen’s offers a weekly session that requires no homework or ongoing obligation. Just bring your inquiring mind and an interest in reflecting upon the Gospel lesson for the upcoming Sunday. \nZoila Schoenbrun starts us off by reading the week’s Collect and Gospel lesson\, followed by time for personal reflection and ending with time for us to share our reactions\, questions\, and other thoughts. Kyle talked about this approach during our Lenten story-telling series – it is more than understanding the text intellectually\, it is about making the words of scripture relevant to our own lives. \nA group of 4 – 6 of us gets together at 8:30 am on Wednesday mornings via Zoom. \nPlease give it a try!  https://us02web.zoom.us/j/83156288483
URL:https://ststephenschurch.org/event/gospel-reflection-hour-virtual-2/2026-01-21/
CATEGORIES:Adult Formation
END:VEVENT
BEGIN:VEVENT
DTSTART;TZID=America/Los_Angeles:20260118T160000
DTEND;TZID=America/Los_Angeles:20260118T170000
DTSTAMP:20260420T122741
CREATED:20260108T183618Z
LAST-MODIFIED:20260115T183858Z
UID:10000863-1768752000-1768755600@ststephenschurch.org
SUMMARY:Music at St. Stephen's - Organ Concert
DESCRIPTION:Mark your calendars for the next event in our concert series\, Sunday\, January 18 at 4pm. Chase Olson\, a local organ student who practices at St. Stephen’s frequently when home for breaks and holidays\, is finishing a double degree in organ performance and financial economics from Oberlin College & Conservatory. He currently studies organ with Christa Rakich\, but began his organ study at the Congregational Church of San Mateo with Angela Kraft Cross in 2016\, where he also served as her sabbatical replacement in the summers of 2024 and 2025. Chase has performed at numerous venues across the world\, and was a featured performer in the Piccolo Spoleto Festival in Charleston\, South Carolina earlier this year. His program at St. Stephen’s\, which reprises several works from his senior recital\, includes works by Scheidemann\, Sweelinck\, Schildt\, Buxtehude\, and Charles-Marie Widor.
URL:https://ststephenschurch.org/event/music-at-st-stephens-organ-concert/
LOCATION:3 Bayview Avenue\, Belvedere\, California\, 94920\, United States
CATEGORIES:Music
ATTACH;FMTTYPE=image/jpeg:https://ststephenschurch.org/wp-content/uploads/2026/01/1.18.26-Organ-Concert-scaled-e1768502311895.jpg
END:VEVENT
BEGIN:VEVENT
DTSTART;TZID=America/Los_Angeles:20260118T100000
DTEND;TZID=America/Los_Angeles:20260118T110000
DTSTAMP:20260420T122741
CREATED:20250729T195102Z
LAST-MODIFIED:20250729T195102Z
UID:10000562-1768730400-1768734000@ststephenschurch.org
SUMMARY:Choral Eucharist
DESCRIPTION:
URL:https://ststephenschurch.org/event/choral-eucharist/2026-01-18/
CATEGORIES:Worship Service
END:VEVENT
BEGIN:VEVENT
DTSTART;TZID=America/Los_Angeles:20260118T080000
DTEND;TZID=America/Los_Angeles:20260118T090000
DTSTAMP:20260420T122741
CREATED:20250729T195012Z
LAST-MODIFIED:20251105T221620Z
UID:10000301-1768723200-1768726800@ststephenschurch.org
SUMMARY:Eucharist
DESCRIPTION:
URL:https://ststephenschurch.org/event/eucharist/2026-01-18/
CATEGORIES:Worship Service
END:VEVENT
BEGIN:VEVENT
DTSTART;TZID=America/Los_Angeles:20260114T083000
DTEND;TZID=America/Los_Angeles:20260114T093000
DTSTAMP:20260420T122741
CREATED:20251217T192518Z
LAST-MODIFIED:20251217T192520Z
UID:10000040-1768379400-1768383000@ststephenschurch.org
SUMMARY:Gospel Reflection Hour-virtual
DESCRIPTION:Are you interested in joining a Bible Study? St. Stephen’s offers a weekly session that requires no homework or ongoing obligation. Just bring your inquiring mind and an interest in reflecting upon the Gospel lesson for the upcoming Sunday. \nZoila Schoenbrun starts us off by reading the week’s Collect and Gospel lesson\, followed by time for personal reflection and ending with time for us to share our reactions\, questions\, and other thoughts. Kyle talked about this approach during our Lenten story-telling series – it is more than understanding the text intellectually\, it is about making the words of scripture relevant to our own lives. \nA group of 4 – 6 of us gets together at 8:30 am on Wednesday mornings via Zoom. \nPlease give it a try!  https://us02web.zoom.us/j/83156288483
URL:https://ststephenschurch.org/event/gospel-reflection-hour-virtual-2/2026-01-14/
CATEGORIES:Adult Formation
END:VEVENT
BEGIN:VEVENT
DTSTART;TZID=America/Los_Angeles:20260111T100000
DTEND;TZID=America/Los_Angeles:20260111T110000
DTSTAMP:20260420T122741
CREATED:20250729T195102Z
LAST-MODIFIED:20250729T195102Z
UID:10000561-1768125600-1768129200@ststephenschurch.org
SUMMARY:Choral Eucharist
DESCRIPTION:
URL:https://ststephenschurch.org/event/choral-eucharist/2026-01-11/
CATEGORIES:Worship Service
END:VEVENT
BEGIN:VEVENT
DTSTART;TZID=America/Los_Angeles:20260111T080000
DTEND;TZID=America/Los_Angeles:20260111T090000
DTSTAMP:20260420T122741
CREATED:20250729T195012Z
LAST-MODIFIED:20251105T221620Z
UID:10000300-1768118400-1768122000@ststephenschurch.org
SUMMARY:Eucharist
DESCRIPTION:
URL:https://ststephenschurch.org/event/eucharist/2026-01-11/
CATEGORIES:Worship Service
END:VEVENT
BEGIN:VEVENT
DTSTART;TZID=America/Los_Angeles:20260110T090000
DTEND;TZID=America/Los_Angeles:20260110T110000
DTSTAMP:20260420T122741
CREATED:20250910T040801Z
LAST-MODIFIED:20251231T194528Z
UID:10000812-1768035600-1768042800@ststephenschurch.org
SUMMARY:Men’s Breakfast
DESCRIPTION:Breakfast Saturday morning\, January 10\, will be in Kimball Hall\, St. Stephen’s Church at 9:00. Thanks to a generous donation from Michael Richman\, breakfast will be complimentary for everyone. \nDenise Maine will also be doing a presentation on Siempre Unidos: After 25 years with Siempre Unidos\, how do we honor this mission\, and carry its light forward? 
URL:https://ststephenschurch.org/event/mens-breakfast-3/
LOCATION:3 Bayview Avenue\, Belvedere\, California\, 94920\, United States
CATEGORIES:Men's Group
ORGANIZER;CN="Cary White":MAILTO:carywwhite@live.com
END:VEVENT
BEGIN:VEVENT
DTSTART;TZID=America/Los_Angeles:20260107T083000
DTEND;TZID=America/Los_Angeles:20260107T093000
DTSTAMP:20260420T122741
CREATED:20251217T192518Z
LAST-MODIFIED:20251217T192520Z
UID:10000039-1767774600-1767778200@ststephenschurch.org
SUMMARY:Gospel Reflection Hour-virtual
DESCRIPTION:Are you interested in joining a Bible Study? St. Stephen’s offers a weekly session that requires no homework or ongoing obligation. Just bring your inquiring mind and an interest in reflecting upon the Gospel lesson for the upcoming Sunday. \nZoila Schoenbrun starts us off by reading the week’s Collect and Gospel lesson\, followed by time for personal reflection and ending with time for us to share our reactions\, questions\, and other thoughts. Kyle talked about this approach during our Lenten story-telling series – it is more than understanding the text intellectually\, it is about making the words of scripture relevant to our own lives. \nA group of 4 – 6 of us gets together at 8:30 am on Wednesday mornings via Zoom. \nPlease give it a try!  https://us02web.zoom.us/j/83156288483
URL:https://ststephenschurch.org/event/gospel-reflection-hour-virtual-2/2026-01-07/
CATEGORIES:Adult Formation
END:VEVENT
BEGIN:VEVENT
DTSTART;TZID=America/Los_Angeles:20260104T100000
DTEND;TZID=America/Los_Angeles:20260104T110000
DTSTAMP:20260420T122741
CREATED:20250729T195102Z
LAST-MODIFIED:20250729T195102Z
UID:10000560-1767520800-1767524400@ststephenschurch.org
SUMMARY:Choral Eucharist
DESCRIPTION:
URL:https://ststephenschurch.org/event/choral-eucharist/2026-01-04/
CATEGORIES:Worship Service
END:VEVENT
BEGIN:VEVENT
DTSTART;TZID=America/Los_Angeles:20260104T080000
DTEND;TZID=America/Los_Angeles:20260104T090000
DTSTAMP:20260420T122741
CREATED:20250729T195012Z
LAST-MODIFIED:20251105T221620Z
UID:10000299-1767513600-1767517200@ststephenschurch.org
SUMMARY:Eucharist
DESCRIPTION:
URL:https://ststephenschurch.org/event/eucharist/2026-01-04/
CATEGORIES:Worship Service
END:VEVENT
BEGIN:VEVENT
DTSTART;TZID=America/Los_Angeles:20251231T083000
DTEND;TZID=America/Los_Angeles:20251231T093000
DTSTAMP:20260420T122741
CREATED:20251217T192518Z
LAST-MODIFIED:20251217T192520Z
UID:10000038-1767169800-1767173400@ststephenschurch.org
SUMMARY:Gospel Reflection Hour-virtual
DESCRIPTION:Are you interested in joining a Bible Study? St. Stephen’s offers a weekly session that requires no homework or ongoing obligation. Just bring your inquiring mind and an interest in reflecting upon the Gospel lesson for the upcoming Sunday. \nZoila Schoenbrun starts us off by reading the week’s Collect and Gospel lesson\, followed by time for personal reflection and ending with time for us to share our reactions\, questions\, and other thoughts. Kyle talked about this approach during our Lenten story-telling series – it is more than understanding the text intellectually\, it is about making the words of scripture relevant to our own lives. \nA group of 4 – 6 of us gets together at 8:30 am on Wednesday mornings via Zoom. \nPlease give it a try!  https://us02web.zoom.us/j/83156288483
URL:https://ststephenschurch.org/event/gospel-reflection-hour-virtual-2/2025-12-31/
CATEGORIES:Adult Formation
END:VEVENT
BEGIN:VEVENT
DTSTART;TZID=America/Los_Angeles:20251228T100000
DTEND;TZID=America/Los_Angeles:20251228T110000
DTSTAMP:20260420T122741
CREATED:20250729T195102Z
LAST-MODIFIED:20250729T195102Z
UID:10000559-1766916000-1766919600@ststephenschurch.org
SUMMARY:Choral Eucharist
DESCRIPTION:
URL:https://ststephenschurch.org/event/choral-eucharist/2025-12-28/
CATEGORIES:Worship Service
END:VEVENT
BEGIN:VEVENT
DTSTART;TZID=America/Los_Angeles:20251228T080000
DTEND;TZID=America/Los_Angeles:20251228T090000
DTSTAMP:20260420T122741
CREATED:20250729T195012Z
LAST-MODIFIED:20251105T221620Z
UID:10000298-1766908800-1766912400@ststephenschurch.org
SUMMARY:Eucharist
DESCRIPTION:
URL:https://ststephenschurch.org/event/eucharist/2025-12-28/
CATEGORIES:Worship Service
END:VEVENT
BEGIN:VEVENT
DTSTART;TZID=America/Los_Angeles:20251225T100000
DTEND;TZID=America/Los_Angeles:20251225T110000
DTSTAMP:20260420T122741
CREATED:20251112T203733Z
LAST-MODIFIED:20251112T203933Z
UID:10000846-1766656800-1766660400@ststephenschurch.org
SUMMARY:Christmas Day
DESCRIPTION:Holy Eucharist
URL:https://ststephenschurch.org/event/christmas-day/
CATEGORIES:Worship Service
END:VEVENT
BEGIN:VEVENT
DTSTART;TZID=America/Los_Angeles:20251224T203000
DTEND;TZID=America/Los_Angeles:20251224T213000
DTSTAMP:20260420T122741
CREATED:20251106T182724Z
LAST-MODIFIED:20251106T182724Z
UID:10000842-1766608200-1766611800@ststephenschurch.org
SUMMARY:Christmas Eve 8:30 p.m.
DESCRIPTION:Choral Holy Eucharist
URL:https://ststephenschurch.org/event/christmas-eve-830-p-m/
CATEGORIES:Worship Service
END:VEVENT
BEGIN:VEVENT
DTSTART;TZID=America/Los_Angeles:20251224T160000
DTEND;TZID=America/Los_Angeles:20251224T170000
DTSTAMP:20260420T122741
CREATED:20251106T182546Z
LAST-MODIFIED:20251106T182546Z
UID:10000841-1766592000-1766595600@ststephenschurch.org
SUMMARY:Christmas Eve 4:00 pm service
DESCRIPTION:Family Service with Holy Eucharist.
URL:https://ststephenschurch.org/event/christmas-eve-400-pm-service/
CATEGORIES:Worship Service
END:VEVENT
BEGIN:VEVENT
DTSTART;TZID=America/Los_Angeles:20251224T083000
DTEND;TZID=America/Los_Angeles:20251224T093000
DTSTAMP:20260420T122741
CREATED:20251217T192518Z
LAST-MODIFIED:20251217T192520Z
UID:10000037-1766565000-1766568600@ststephenschurch.org
SUMMARY:Gospel Reflection Hour-virtual
DESCRIPTION:Are you interested in joining a Bible Study? St. Stephen’s offers a weekly session that requires no homework or ongoing obligation. Just bring your inquiring mind and an interest in reflecting upon the Gospel lesson for the upcoming Sunday. \nZoila Schoenbrun starts us off by reading the week’s Collect and Gospel lesson\, followed by time for personal reflection and ending with time for us to share our reactions\, questions\, and other thoughts. Kyle talked about this approach during our Lenten story-telling series – it is more than understanding the text intellectually\, it is about making the words of scripture relevant to our own lives. \nA group of 4 – 6 of us gets together at 8:30 am on Wednesday mornings via Zoom. \nPlease give it a try!  https://us02web.zoom.us/j/83156288483
URL:https://ststephenschurch.org/event/gospel-reflection-hour-virtual-2/2025-12-24/
CATEGORIES:Adult Formation
END:VEVENT
BEGIN:VEVENT
DTSTART;TZID=America/Los_Angeles:20251221T180000
DTEND;TZID=America/Los_Angeles:20251221T190000
DTSTAMP:20260420T122741
CREATED:20251217T191511Z
LAST-MODIFIED:20251217T191511Z
UID:10000848-1766340000-1766343600@ststephenschurch.org
SUMMARY:St. Stephen's Blue Christmas Service
DESCRIPTION:A service of hope and healing for those experiencing grief\, sadness\, or loss during this holiday season. Please join us for quiet prayers\, music\, and reflection.
URL:https://ststephenschurch.org/event/st-stephens-blue-christmas-service/
CATEGORIES:Worship Service
ATTACH;FMTTYPE=image/png:https://ststephenschurch.org/wp-content/uploads/2025/12/Blue-Christmas-Service.png
END:VEVENT
BEGIN:VEVENT
DTSTART;TZID=America/Los_Angeles:20251221T100000
DTEND;TZID=America/Los_Angeles:20251221T110000
DTSTAMP:20260420T122741
CREATED:20250729T195102Z
LAST-MODIFIED:20250729T195102Z
UID:10000558-1766311200-1766314800@ststephenschurch.org
SUMMARY:Choral Eucharist
DESCRIPTION:
URL:https://ststephenschurch.org/event/choral-eucharist/2025-12-21/
CATEGORIES:Worship Service
END:VEVENT
BEGIN:VEVENT
DTSTART;TZID=America/Los_Angeles:20251221T080000
DTEND;TZID=America/Los_Angeles:20251221T090000
DTSTAMP:20260420T122741
CREATED:20250729T195012Z
LAST-MODIFIED:20251105T221620Z
UID:10000297-1766304000-1766307600@ststephenschurch.org
SUMMARY:Eucharist
DESCRIPTION:
URL:https://ststephenschurch.org/event/eucharist/2025-12-21/
CATEGORIES:Worship Service
END:VEVENT
BEGIN:VEVENT
DTSTART;TZID=America/Los_Angeles:20251220T090000
DTEND;TZID=America/Los_Angeles:20251220T110000
DTSTAMP:20260420T122741
CREATED:20251126T190933Z
LAST-MODIFIED:20251204T224410Z
UID:10000847-1766221200-1766228400@ststephenschurch.org
SUMMARY:St. Stephen's Ladies Christmas Brunch
DESCRIPTION:Join the women of St. Stephen’s for a holiday brunch at SF Yacht Club!  $25. Please RSVP to Alex Norris. (norris_alexandra@hotmail.com)
URL:https://ststephenschurch.org/event/st-stephens-ladies-christmas-brunch/
LOCATION:SF Yacht Club
CATEGORIES:Women's Group
ATTACH;FMTTYPE=image/png:https://ststephenschurch.org/wp-content/uploads/2025/10/Ladie-Christmas-Brunch-Dec-20.png
END:VEVENT
BEGIN:VEVENT
DTSTART;TZID=America/Los_Angeles:20251217T083000
DTEND;TZID=America/Los_Angeles:20251217T093000
DTSTAMP:20260420T122741
CREATED:20250729T194856Z
LAST-MODIFIED:20250916T062605Z
UID:10000036-1765960200-1765963800@ststephenschurch.org
SUMMARY:Gospel Reflection Hour-virtual
DESCRIPTION:Are you interested in joining a Bible Study? St. Stephen’s offers a weekly session that requires no homework or ongoing obligation. Just bring your inquiring mind and an interest in reflecting upon the Gospel lesson for the upcoming Sunday. \nZoila Schoenbrun starts us off by reading the week’s Collect and Gospel lesson\, followed by time for personal reflection and ending with time for us to share our reactions\, questions\, and other thoughts. Kyle talked about this approach during our Lenten story-telling series – it is more than understanding the text intellectually\, it is about making the words of scripture relevant to our own lives. \nA group of 4 – 6 of us gets together at 8:30 am on Wednesday mornings via Zoom. \nPlease give it a try!  https://us02web.zoom.us/j/83156288483
URL:https://ststephenschurch.org/event/gospel-reflection-hour-virtual/2025-12-17/
CATEGORIES:Adult Formation
END:VEVENT
BEGIN:VEVENT
DTSTART;TZID=America/Los_Angeles:20251215T170000
DTEND;TZID=America/Los_Angeles:20251215T190000
DTSTAMP:20260420T122741
CREATED:20251106T184144Z
LAST-MODIFIED:20251106T184144Z
UID:10000844-1765818000-1765825200@ststephenschurch.org
SUMMARY:Men's Group Holiday Gathering
DESCRIPTION:Mog Asu Wine Bar\, Cove Shopping Center\, Tiburon
URL:https://ststephenschurch.org/event/mens-group-holiday-gathering/
CATEGORIES:Men's Group
ORGANIZER;CN="Cary White":MAILTO:carywwhite@live.com
END:VEVENT
END:VCALENDAR