BEGIN:VCALENDAR
VERSION:2.0
PRODID:-//St. Stephen&#039;s - ECPv6.15.20//NONSGML v1.0//EN
CALSCALE:GREGORIAN
METHOD:PUBLISH
X-ORIGINAL-URL:https://ststephenschurch.org
X-WR-CALDESC:Events for St. Stephen&#039;s
REFRESH-INTERVAL;VALUE=DURATION:PT1H
X-Robots-Tag:noindex
X-PUBLISHED-TTL:PT1H
BEGIN:VTIMEZONE
TZID:America/Los_Angeles
BEGIN:DAYLIGHT
TZOFFSETFROM:-0800
TZOFFSETTO:-0700
TZNAME:PDT
DTSTART:20250309T100000
END:DAYLIGHT
BEGIN:STANDARD
TZOFFSETFROM:-0700
TZOFFSETTO:-0800
TZNAME:PST
DTSTART:20251102T090000
END:STANDARD
BEGIN:DAYLIGHT
TZOFFSETFROM:-0800
TZOFFSETTO:-0700
TZNAME:PDT
DTSTART:20260308T100000
END:DAYLIGHT
BEGIN:STANDARD
TZOFFSETFROM:-0700
TZOFFSETTO:-0800
TZNAME:PST
DTSTART:20261101T090000
END:STANDARD
BEGIN:DAYLIGHT
TZOFFSETFROM:-0800
TZOFFSETTO:-0700
TZNAME:PDT
DTSTART:20270314T100000
END:DAYLIGHT
BEGIN:STANDARD
TZOFFSETFROM:-0700
TZOFFSETTO:-0800
TZNAME:PST
DTSTART:20271107T090000
END:STANDARD
END:VTIMEZONE
BEGIN:VEVENT
DTSTART;TZID=America/Los_Angeles:20260411T120000
DTEND;TZID=America/Los_Angeles:20260411T140000
DTSTAMP:20260420T005606
CREATED:20260309T215039Z
LAST-MODIFIED:20260309T221251Z
UID:10000869-1775908800-1775916000@ststephenschurch.org
SUMMARY:San Francisco-Marin Food Bank - Volunteer
DESCRIPTION:Be a part of the St. Stephen’s Volunteer Team at the SF-Marin Food Bank\, 2550 Kerner Blvd. San Rafael. We have 10 spots available from 12:00 pm – 2:00 pm. Please arrive 15 minutes before shift. You may park in any lot\, including the lot in front of the building\, enter Door 4. \nPlease use this LINK to sign up.
URL:https://ststephenschurch.org/event/san-francisco-marin-food-bank-volunteer/
LOCATION:SF-Marin Food Bank\, 2550 Kerner Blvd.\, San Rafael\, CA\, 94901\, United States
CATEGORIES:Outreach
END:VEVENT
BEGIN:VEVENT
DTSTART;TZID=America/Los_Angeles:20260412T080000
DTEND;TZID=America/Los_Angeles:20260412T090000
DTSTAMP:20260420T005606
CREATED:20250729T195012Z
LAST-MODIFIED:20251105T221620Z
UID:10000313-1775980800-1775984400@ststephenschurch.org
SUMMARY:Eucharist
DESCRIPTION:
URL:https://ststephenschurch.org/event/eucharist/2026-04-12/
CATEGORIES:Worship Service
END:VEVENT
BEGIN:VEVENT
DTSTART;TZID=America/Los_Angeles:20260412T100000
DTEND;TZID=America/Los_Angeles:20260412T110000
DTSTAMP:20260420T005606
CREATED:20250729T195102Z
LAST-MODIFIED:20250729T195102Z
UID:10000574-1775988000-1775991600@ststephenschurch.org
SUMMARY:Choral Eucharist
DESCRIPTION:
URL:https://ststephenschurch.org/event/choral-eucharist/2026-04-12/
CATEGORIES:Worship Service
END:VEVENT
BEGIN:VEVENT
DTSTART;TZID=America/Los_Angeles:20260415T083000
DTEND;TZID=America/Los_Angeles:20260415T093000
DTSTAMP:20260420T005606
CREATED:20251217T192518Z
LAST-MODIFIED:20251217T192520Z
UID:10000053-1776241800-1776245400@ststephenschurch.org
SUMMARY:Gospel Reflection Hour-virtual
DESCRIPTION:Are you interested in joining a Bible Study? St. Stephen’s offers a weekly session that requires no homework or ongoing obligation. Just bring your inquiring mind and an interest in reflecting upon the Gospel lesson for the upcoming Sunday. \nZoila Schoenbrun starts us off by reading the week’s Collect and Gospel lesson\, followed by time for personal reflection and ending with time for us to share our reactions\, questions\, and other thoughts. Kyle talked about this approach during our Lenten story-telling series – it is more than understanding the text intellectually\, it is about making the words of scripture relevant to our own lives. \nA group of 4 – 6 of us gets together at 8:30 am on Wednesday mornings via Zoom. \nPlease give it a try!  https://us02web.zoom.us/j/83156288483
URL:https://ststephenschurch.org/event/gospel-reflection-hour-virtual-2/2026-04-15/
CATEGORIES:Adult Formation
END:VEVENT
BEGIN:VEVENT
DTSTART;TZID=America/Los_Angeles:20260415T180000
DTEND;TZID=America/Los_Angeles:20260415T200000
DTSTAMP:20260420T005606
CREATED:20260319T221214Z
LAST-MODIFIED:20260319T221258Z
UID:10000874-1776276000-1776283200@ststephenschurch.org
SUMMARY:Women on Wednesday April Potluck
DESCRIPTION:Please mark your calendar for Wednesday\, April 15 at 6:00 p.m. for a WOW Potluck supper. Please join us for a Women on Wednesday evening of delicious food\, laughter\, and wonderful fellowship. \nBring a favorite dish\, and feel free to invite friends and neighbors—the more the merrier! 
URL:https://ststephenschurch.org/event/women-on-wednesday-april-potluck/
CATEGORIES:Women's Group
ATTACH;FMTTYPE=image/jpeg:https://ststephenschurch.org/wp-content/uploads/2026/03/April-WOW-Poster-scaled.jpg
END:VEVENT
BEGIN:VEVENT
DTSTART;TZID=America/Los_Angeles:20260419T080000
DTEND;TZID=America/Los_Angeles:20260419T090000
DTSTAMP:20260420T005606
CREATED:20250729T195012Z
LAST-MODIFIED:20251105T221620Z
UID:10000314-1776585600-1776589200@ststephenschurch.org
SUMMARY:Eucharist
DESCRIPTION:
URL:https://ststephenschurch.org/event/eucharist/2026-04-19/
CATEGORIES:Worship Service
END:VEVENT
BEGIN:VEVENT
DTSTART;TZID=America/Los_Angeles:20260419T100000
DTEND;TZID=America/Los_Angeles:20260419T110000
DTSTAMP:20260420T005606
CREATED:20250729T195102Z
LAST-MODIFIED:20250729T195102Z
UID:10000575-1776592800-1776596400@ststephenschurch.org
SUMMARY:Choral Eucharist
DESCRIPTION:
URL:https://ststephenschurch.org/event/choral-eucharist/2026-04-19/
CATEGORIES:Worship Service
END:VEVENT
BEGIN:VEVENT
DTSTART;TZID=America/Los_Angeles:20260419T111500
DTEND;TZID=America/Los_Angeles:20260419T120000
DTSTAMP:20260420T005606
CREATED:20260225T223033Z
LAST-MODIFIED:20260225T223033Z
UID:10000868-1776597300-1776600000@ststephenschurch.org
SUMMARY:Sunday Adult Forum
DESCRIPTION:Join Karl Belgum in the conference room following the 10 am service for a discussion on the TV Series\, “The Chosen”\, episodes 1-6 with emphasis on Mary Magdalene.
URL:https://ststephenschurch.org/event/sunday-adult-forum/
CATEGORIES:Adult Formation
END:VEVENT
BEGIN:VEVENT
DTSTART;TZID=America/Los_Angeles:20260419T150000
DTEND;TZID=America/Los_Angeles:20260419T170000
DTSTAMP:20260420T005606
CREATED:20260402T234650Z
LAST-MODIFIED:20260402T234745Z
UID:10000878-1776610800-1776618000@ststephenschurch.org
SUMMARY:Rise Against Hunger
DESCRIPTION:Join parishioner Regan Moore to package meals for the nonprofit Rise Against Hunger. She was inspired to organize this event at St. Stephen’s after participating last year. Rise Against Hunger delivers meals to the most vulnerable communities and teaches these communities skills to enable self-sufficiency. Please use the link below to sign up to volunteer. \nhttps://riseagainsthunger.org/register/?id=701Pj00000u3GG6IAM
URL:https://ststephenschurch.org/event/rise-against-hunger/
CATEGORIES:Outreach
END:VEVENT
BEGIN:VEVENT
DTSTART;TZID=America/Los_Angeles:20260422T083000
DTEND;TZID=America/Los_Angeles:20260422T093000
DTSTAMP:20260420T005606
CREATED:20251217T192518Z
LAST-MODIFIED:20251217T192520Z
UID:10000054-1776846600-1776850200@ststephenschurch.org
SUMMARY:Gospel Reflection Hour-virtual
DESCRIPTION:Are you interested in joining a Bible Study? St. Stephen’s offers a weekly session that requires no homework or ongoing obligation. Just bring your inquiring mind and an interest in reflecting upon the Gospel lesson for the upcoming Sunday. \nZoila Schoenbrun starts us off by reading the week’s Collect and Gospel lesson\, followed by time for personal reflection and ending with time for us to share our reactions\, questions\, and other thoughts. Kyle talked about this approach during our Lenten story-telling series – it is more than understanding the text intellectually\, it is about making the words of scripture relevant to our own lives. \nA group of 4 – 6 of us gets together at 8:30 am on Wednesday mornings via Zoom. \nPlease give it a try!  https://us02web.zoom.us/j/83156288483
URL:https://ststephenschurch.org/event/gospel-reflection-hour-virtual-2/2026-04-22/
CATEGORIES:Adult Formation
END:VEVENT
BEGIN:VEVENT
DTSTART;TZID=America/Los_Angeles:20260426T080000
DTEND;TZID=America/Los_Angeles:20260426T090000
DTSTAMP:20260420T005606
CREATED:20250729T195012Z
LAST-MODIFIED:20251105T221620Z
UID:10000315-1777190400-1777194000@ststephenschurch.org
SUMMARY:Eucharist
DESCRIPTION:
URL:https://ststephenschurch.org/event/eucharist/2026-04-26/
CATEGORIES:Worship Service
END:VEVENT
BEGIN:VEVENT
DTSTART;TZID=America/Los_Angeles:20260426T100000
DTEND;TZID=America/Los_Angeles:20260426T110000
DTSTAMP:20260420T005606
CREATED:20250729T195102Z
LAST-MODIFIED:20250729T195102Z
UID:10000576-1777197600-1777201200@ststephenschurch.org
SUMMARY:Choral Eucharist
DESCRIPTION:
URL:https://ststephenschurch.org/event/choral-eucharist/2026-04-26/
CATEGORIES:Worship Service
END:VEVENT
BEGIN:VEVENT
DTSTART;TZID=America/Los_Angeles:20260429T083000
DTEND;TZID=America/Los_Angeles:20260429T093000
DTSTAMP:20260420T005606
CREATED:20251217T192518Z
LAST-MODIFIED:20251217T192520Z
UID:10000055-1777451400-1777455000@ststephenschurch.org
SUMMARY:Gospel Reflection Hour-virtual
DESCRIPTION:Are you interested in joining a Bible Study? St. Stephen’s offers a weekly session that requires no homework or ongoing obligation. Just bring your inquiring mind and an interest in reflecting upon the Gospel lesson for the upcoming Sunday. \nZoila Schoenbrun starts us off by reading the week’s Collect and Gospel lesson\, followed by time for personal reflection and ending with time for us to share our reactions\, questions\, and other thoughts. Kyle talked about this approach during our Lenten story-telling series – it is more than understanding the text intellectually\, it is about making the words of scripture relevant to our own lives. \nA group of 4 – 6 of us gets together at 8:30 am on Wednesday mornings via Zoom. \nPlease give it a try!  https://us02web.zoom.us/j/83156288483
URL:https://ststephenschurch.org/event/gospel-reflection-hour-virtual-2/2026-04-29/
CATEGORIES:Adult Formation
END:VEVENT
BEGIN:VEVENT
DTSTART;TZID=America/Los_Angeles:20260502T090000
DTEND;TZID=America/Los_Angeles:20260502T110000
DTSTAMP:20260420T005606
CREATED:20260402T235430Z
LAST-MODIFIED:20260402T235430Z
UID:10000879-1777712400-1777719600@ststephenschurch.org
SUMMARY:St. Stephen's Ladies Brunch
DESCRIPTION:Please join us for the spring St. Stephen’s Ladies Brunch at the SF Yacht Club on Saturday\, May 2nd 9am. The cost is $30. \nSeating is limited to the first 30 ladies\, so please sign up early! \nPlease contact Alex Norris for more information. (norris_alexandra@hotmail.com). There will be a waitlist\, so if your plans change\, please contact Alex. \n 
URL:https://ststephenschurch.org/event/st-stephens-ladies-brunch/
LOCATION:SF Yacht Club
CATEGORIES:Women's Group
END:VEVENT
BEGIN:VEVENT
DTSTART;TZID=America/Los_Angeles:20260502T120000
DTEND;TZID=America/Los_Angeles:20260502T140000
DTSTAMP:20260420T005606
CREATED:20260309T215243Z
LAST-MODIFIED:20260309T221959Z
UID:10000870-1777723200-1777730400@ststephenschurch.org
SUMMARY:San Francisco-Marin Food Bank - Volunteer
DESCRIPTION:Be a part of the St. Stephen’s Volunteer Team at the SF-Marin Food Bank\, 2550 Kerner Blvd. San Rafael. We have 10 spots available from 12:00 pm – 2:00 pm. Please arrive 15 minutes before shift. You may park in any lot\, including the lot in front of the building\, enter Door 4. \nPlease us this LINK to sign up.
URL:https://ststephenschurch.org/event/san-francisco-marin-food-bank-volunteer-2/
LOCATION:SF-Marin Food Bank\, 2550 Kerner Blvd.\, San Rafael\, CA\, 94901\, United States
CATEGORIES:Outreach
END:VEVENT
BEGIN:VEVENT
DTSTART;TZID=America/Los_Angeles:20260503T080000
DTEND;TZID=America/Los_Angeles:20260503T090000
DTSTAMP:20260420T005606
CREATED:20250729T195012Z
LAST-MODIFIED:20251105T221620Z
UID:10000316-1777795200-1777798800@ststephenschurch.org
SUMMARY:Eucharist
DESCRIPTION:
URL:https://ststephenschurch.org/event/eucharist/2026-05-03/
CATEGORIES:Worship Service
END:VEVENT
BEGIN:VEVENT
DTSTART;TZID=America/Los_Angeles:20260503T100000
DTEND;TZID=America/Los_Angeles:20260503T110000
DTSTAMP:20260420T005606
CREATED:20250729T195102Z
LAST-MODIFIED:20250729T195102Z
UID:10000577-1777802400-1777806000@ststephenschurch.org
SUMMARY:Choral Eucharist
DESCRIPTION:
URL:https://ststephenschurch.org/event/choral-eucharist/2026-05-03/
CATEGORIES:Worship Service
END:VEVENT
BEGIN:VEVENT
DTSTART;TZID=America/Los_Angeles:20260506T083000
DTEND;TZID=America/Los_Angeles:20260506T093000
DTSTAMP:20260420T005606
CREATED:20251217T192518Z
LAST-MODIFIED:20251217T192520Z
UID:10000056-1778056200-1778059800@ststephenschurch.org
SUMMARY:Gospel Reflection Hour-virtual
DESCRIPTION:Are you interested in joining a Bible Study? St. Stephen’s offers a weekly session that requires no homework or ongoing obligation. Just bring your inquiring mind and an interest in reflecting upon the Gospel lesson for the upcoming Sunday. \nZoila Schoenbrun starts us off by reading the week’s Collect and Gospel lesson\, followed by time for personal reflection and ending with time for us to share our reactions\, questions\, and other thoughts. Kyle talked about this approach during our Lenten story-telling series – it is more than understanding the text intellectually\, it is about making the words of scripture relevant to our own lives. \nA group of 4 – 6 of us gets together at 8:30 am on Wednesday mornings via Zoom. \nPlease give it a try!  https://us02web.zoom.us/j/83156288483
URL:https://ststephenschurch.org/event/gospel-reflection-hour-virtual-2/2026-05-06/
CATEGORIES:Adult Formation
END:VEVENT
BEGIN:VEVENT
DTSTART;TZID=America/Los_Angeles:20260510T080000
DTEND;TZID=America/Los_Angeles:20260510T090000
DTSTAMP:20260420T005606
CREATED:20250729T195012Z
LAST-MODIFIED:20251105T221620Z
UID:10000317-1778400000-1778403600@ststephenschurch.org
SUMMARY:Eucharist
DESCRIPTION:
URL:https://ststephenschurch.org/event/eucharist/2026-05-10/
CATEGORIES:Worship Service
END:VEVENT
BEGIN:VEVENT
DTSTART;TZID=America/Los_Angeles:20260510T100000
DTEND;TZID=America/Los_Angeles:20260510T110000
DTSTAMP:20260420T005606
CREATED:20250729T195102Z
LAST-MODIFIED:20250729T195102Z
UID:10000578-1778407200-1778410800@ststephenschurch.org
SUMMARY:Choral Eucharist
DESCRIPTION:
URL:https://ststephenschurch.org/event/choral-eucharist/2026-05-10/
CATEGORIES:Worship Service
END:VEVENT
BEGIN:VEVENT
DTSTART;TZID=America/Los_Angeles:20260513T083000
DTEND;TZID=America/Los_Angeles:20260513T093000
DTSTAMP:20260420T005606
CREATED:20251217T192518Z
LAST-MODIFIED:20251217T192520Z
UID:10000057-1778661000-1778664600@ststephenschurch.org
SUMMARY:Gospel Reflection Hour-virtual
DESCRIPTION:Are you interested in joining a Bible Study? St. Stephen’s offers a weekly session that requires no homework or ongoing obligation. Just bring your inquiring mind and an interest in reflecting upon the Gospel lesson for the upcoming Sunday. \nZoila Schoenbrun starts us off by reading the week’s Collect and Gospel lesson\, followed by time for personal reflection and ending with time for us to share our reactions\, questions\, and other thoughts. Kyle talked about this approach during our Lenten story-telling series – it is more than understanding the text intellectually\, it is about making the words of scripture relevant to our own lives. \nA group of 4 – 6 of us gets together at 8:30 am on Wednesday mornings via Zoom. \nPlease give it a try!  https://us02web.zoom.us/j/83156288483
URL:https://ststephenschurch.org/event/gospel-reflection-hour-virtual-2/2026-05-13/
CATEGORIES:Adult Formation
END:VEVENT
BEGIN:VEVENT
DTSTART;TZID=America/Los_Angeles:20260517T080000
DTEND;TZID=America/Los_Angeles:20260517T090000
DTSTAMP:20260420T005606
CREATED:20250729T195012Z
LAST-MODIFIED:20251105T221620Z
UID:10000318-1779004800-1779008400@ststephenschurch.org
SUMMARY:Eucharist
DESCRIPTION:
URL:https://ststephenschurch.org/event/eucharist/2026-05-17/
CATEGORIES:Worship Service
END:VEVENT
BEGIN:VEVENT
DTSTART;TZID=America/Los_Angeles:20260517T100000
DTEND;TZID=America/Los_Angeles:20260517T110000
DTSTAMP:20260420T005606
CREATED:20250729T195102Z
LAST-MODIFIED:20250729T195102Z
UID:10000579-1779012000-1779015600@ststephenschurch.org
SUMMARY:Choral Eucharist
DESCRIPTION:
URL:https://ststephenschurch.org/event/choral-eucharist/2026-05-17/
CATEGORIES:Worship Service
END:VEVENT
BEGIN:VEVENT
DTSTART;TZID=America/Los_Angeles:20260520T083000
DTEND;TZID=America/Los_Angeles:20260520T093000
DTSTAMP:20260420T005606
CREATED:20251217T192518Z
LAST-MODIFIED:20251217T192520Z
UID:10000058-1779265800-1779269400@ststephenschurch.org
SUMMARY:Gospel Reflection Hour-virtual
DESCRIPTION:Are you interested in joining a Bible Study? St. Stephen’s offers a weekly session that requires no homework or ongoing obligation. Just bring your inquiring mind and an interest in reflecting upon the Gospel lesson for the upcoming Sunday. \nZoila Schoenbrun starts us off by reading the week’s Collect and Gospel lesson\, followed by time for personal reflection and ending with time for us to share our reactions\, questions\, and other thoughts. Kyle talked about this approach during our Lenten story-telling series – it is more than understanding the text intellectually\, it is about making the words of scripture relevant to our own lives. \nA group of 4 – 6 of us gets together at 8:30 am on Wednesday mornings via Zoom. \nPlease give it a try!  https://us02web.zoom.us/j/83156288483
URL:https://ststephenschurch.org/event/gospel-reflection-hour-virtual-2/2026-05-20/
CATEGORIES:Adult Formation
END:VEVENT
BEGIN:VEVENT
DTSTART;TZID=America/Los_Angeles:20260524T080000
DTEND;TZID=America/Los_Angeles:20260524T090000
DTSTAMP:20260420T005606
CREATED:20250729T195012Z
LAST-MODIFIED:20251105T221620Z
UID:10000319-1779609600-1779613200@ststephenschurch.org
SUMMARY:Eucharist
DESCRIPTION:
URL:https://ststephenschurch.org/event/eucharist/2026-05-24/
CATEGORIES:Worship Service
END:VEVENT
BEGIN:VEVENT
DTSTART;TZID=America/Los_Angeles:20260524T100000
DTEND;TZID=America/Los_Angeles:20260524T110000
DTSTAMP:20260420T005606
CREATED:20250729T195102Z
LAST-MODIFIED:20250729T195102Z
UID:10000580-1779616800-1779620400@ststephenschurch.org
SUMMARY:Choral Eucharist
DESCRIPTION:
URL:https://ststephenschurch.org/event/choral-eucharist/2026-05-24/
CATEGORIES:Worship Service
END:VEVENT
BEGIN:VEVENT
DTSTART;TZID=America/Los_Angeles:20260527T083000
DTEND;TZID=America/Los_Angeles:20260527T093000
DTSTAMP:20260420T005606
CREATED:20251217T192518Z
LAST-MODIFIED:20251217T192520Z
UID:10000059-1779870600-1779874200@ststephenschurch.org
SUMMARY:Gospel Reflection Hour-virtual
DESCRIPTION:Are you interested in joining a Bible Study? St. Stephen’s offers a weekly session that requires no homework or ongoing obligation. Just bring your inquiring mind and an interest in reflecting upon the Gospel lesson for the upcoming Sunday. \nZoila Schoenbrun starts us off by reading the week’s Collect and Gospel lesson\, followed by time for personal reflection and ending with time for us to share our reactions\, questions\, and other thoughts. Kyle talked about this approach during our Lenten story-telling series – it is more than understanding the text intellectually\, it is about making the words of scripture relevant to our own lives. \nA group of 4 – 6 of us gets together at 8:30 am on Wednesday mornings via Zoom. \nPlease give it a try!  https://us02web.zoom.us/j/83156288483
URL:https://ststephenschurch.org/event/gospel-reflection-hour-virtual-2/2026-05-27/
CATEGORIES:Adult Formation
END:VEVENT
BEGIN:VEVENT
DTSTART;TZID=America/Los_Angeles:20260531T080000
DTEND;TZID=America/Los_Angeles:20260531T090000
DTSTAMP:20260420T005606
CREATED:20250729T195012Z
LAST-MODIFIED:20251105T221620Z
UID:10000320-1780214400-1780218000@ststephenschurch.org
SUMMARY:Eucharist
DESCRIPTION:
URL:https://ststephenschurch.org/event/eucharist/2026-05-31/
CATEGORIES:Worship Service
END:VEVENT
BEGIN:VEVENT
DTSTART;TZID=America/Los_Angeles:20260531T100000
DTEND;TZID=America/Los_Angeles:20260531T110000
DTSTAMP:20260420T005606
CREATED:20250729T195102Z
LAST-MODIFIED:20250729T195102Z
UID:10000581-1780221600-1780225200@ststephenschurch.org
SUMMARY:Choral Eucharist
DESCRIPTION:
URL:https://ststephenschurch.org/event/choral-eucharist/2026-05-31/
CATEGORIES:Worship Service
END:VEVENT
BEGIN:VEVENT
DTSTART;TZID=America/Los_Angeles:20260603T083000
DTEND;TZID=America/Los_Angeles:20260603T093000
DTSTAMP:20260420T005606
CREATED:20251217T192518Z
LAST-MODIFIED:20251217T192520Z
UID:10000060-1780475400-1780479000@ststephenschurch.org
SUMMARY:Gospel Reflection Hour-virtual
DESCRIPTION:Are you interested in joining a Bible Study? St. Stephen’s offers a weekly session that requires no homework or ongoing obligation. Just bring your inquiring mind and an interest in reflecting upon the Gospel lesson for the upcoming Sunday. \nZoila Schoenbrun starts us off by reading the week’s Collect and Gospel lesson\, followed by time for personal reflection and ending with time for us to share our reactions\, questions\, and other thoughts. Kyle talked about this approach during our Lenten story-telling series – it is more than understanding the text intellectually\, it is about making the words of scripture relevant to our own lives. \nA group of 4 – 6 of us gets together at 8:30 am on Wednesday mornings via Zoom. \nPlease give it a try!  https://us02web.zoom.us/j/83156288483
URL:https://ststephenschurch.org/event/gospel-reflection-hour-virtual-2/2026-06-03/
CATEGORIES:Adult Formation
END:VEVENT
END:VCALENDAR