BEGIN:VCALENDAR
VERSION:2.0
PRODID:-//St. Stephen&#039;s - ECPv6.15.20//NONSGML v1.0//EN
CALSCALE:GREGORIAN
METHOD:PUBLISH
X-WR-CALNAME:St. Stephen&#039;s
X-ORIGINAL-URL:https://ststephenschurch.org
X-WR-CALDESC:Events for St. Stephen&#039;s
REFRESH-INTERVAL;VALUE=DURATION:PT1H
X-Robots-Tag:noindex
X-PUBLISHED-TTL:PT1H
BEGIN:VTIMEZONE
TZID:America/Los_Angeles
BEGIN:DAYLIGHT
TZOFFSETFROM:-0800
TZOFFSETTO:-0700
TZNAME:PDT
DTSTART:20250309T100000
END:DAYLIGHT
BEGIN:STANDARD
TZOFFSETFROM:-0700
TZOFFSETTO:-0800
TZNAME:PST
DTSTART:20251102T090000
END:STANDARD
BEGIN:DAYLIGHT
TZOFFSETFROM:-0800
TZOFFSETTO:-0700
TZNAME:PDT
DTSTART:20260308T100000
END:DAYLIGHT
BEGIN:STANDARD
TZOFFSETFROM:-0700
TZOFFSETTO:-0800
TZNAME:PST
DTSTART:20261101T090000
END:STANDARD
BEGIN:DAYLIGHT
TZOFFSETFROM:-0800
TZOFFSETTO:-0700
TZNAME:PDT
DTSTART:20270314T100000
END:DAYLIGHT
BEGIN:STANDARD
TZOFFSETFROM:-0700
TZOFFSETTO:-0800
TZNAME:PST
DTSTART:20271107T090000
END:STANDARD
END:VTIMEZONE
BEGIN:VEVENT
DTSTART;TZID=America/Los_Angeles:20260211T083000
DTEND;TZID=America/Los_Angeles:20260211T093000
DTSTAMP:20260420T120325
CREATED:20251217T192518Z
LAST-MODIFIED:20251217T192520Z
UID:10000044-1770798600-1770802200@ststephenschurch.org
SUMMARY:Gospel Reflection Hour-virtual
DESCRIPTION:Are you interested in joining a Bible Study? St. Stephen’s offers a weekly session that requires no homework or ongoing obligation. Just bring your inquiring mind and an interest in reflecting upon the Gospel lesson for the upcoming Sunday. \nZoila Schoenbrun starts us off by reading the week’s Collect and Gospel lesson\, followed by time for personal reflection and ending with time for us to share our reactions\, questions\, and other thoughts. Kyle talked about this approach during our Lenten story-telling series – it is more than understanding the text intellectually\, it is about making the words of scripture relevant to our own lives. \nA group of 4 – 6 of us gets together at 8:30 am on Wednesday mornings via Zoom. \nPlease give it a try!  https://us02web.zoom.us/j/83156288483
URL:https://ststephenschurch.org/event/gospel-reflection-hour-virtual-2/2026-02-11/
CATEGORIES:Adult Formation
END:VEVENT
BEGIN:VEVENT
DTSTART;TZID=America/Los_Angeles:20260215T080000
DTEND;TZID=America/Los_Angeles:20260215T090000
DTSTAMP:20260420T120326
CREATED:20250729T195012Z
LAST-MODIFIED:20251105T221620Z
UID:10000305-1771142400-1771146000@ststephenschurch.org
SUMMARY:Eucharist
DESCRIPTION:
URL:https://ststephenschurch.org/event/eucharist/2026-02-15/
CATEGORIES:Worship Service
END:VEVENT
BEGIN:VEVENT
DTSTART;TZID=America/Los_Angeles:20260215T100000
DTEND;TZID=America/Los_Angeles:20260215T110000
DTSTAMP:20260420T120326
CREATED:20250729T195102Z
LAST-MODIFIED:20250729T195102Z
UID:10000566-1771149600-1771153200@ststephenschurch.org
SUMMARY:Choral Eucharist
DESCRIPTION:
URL:https://ststephenschurch.org/event/choral-eucharist/2026-02-15/
CATEGORIES:Worship Service
END:VEVENT
BEGIN:VEVENT
DTSTART;TZID=America/Los_Angeles:20260217T060000
DTEND;TZID=America/Los_Angeles:20260217T193000
DTSTAMP:20260420T120326
CREATED:20260209T155625Z
LAST-MODIFIED:20260209T155625Z
UID:10000867-1771308000-1771356600@ststephenschurch.org
SUMMARY:Shrove Tuesday Pancake Supper
DESCRIPTION:Please join us on Shrove Tuesday\, February 17th for pancakes and fellowship!  All are welcome.  Gluten-free option available.  $10 cash or check.
URL:https://ststephenschurch.org/event/shrove-tuesday-pancake-supper/
CATEGORIES:Community
ATTACH;FMTTYPE=image/png:https://ststephenschurch.org/wp-content/uploads/2026/02/Pancake-Supper.png
END:VEVENT
BEGIN:VEVENT
DTSTART;TZID=America/Los_Angeles:20260218T083000
DTEND;TZID=America/Los_Angeles:20260218T093000
DTSTAMP:20260420T120326
CREATED:20251217T192518Z
LAST-MODIFIED:20251217T192520Z
UID:10000045-1771403400-1771407000@ststephenschurch.org
SUMMARY:Gospel Reflection Hour-virtual
DESCRIPTION:Are you interested in joining a Bible Study? St. Stephen’s offers a weekly session that requires no homework or ongoing obligation. Just bring your inquiring mind and an interest in reflecting upon the Gospel lesson for the upcoming Sunday. \nZoila Schoenbrun starts us off by reading the week’s Collect and Gospel lesson\, followed by time for personal reflection and ending with time for us to share our reactions\, questions\, and other thoughts. Kyle talked about this approach during our Lenten story-telling series – it is more than understanding the text intellectually\, it is about making the words of scripture relevant to our own lives. \nA group of 4 – 6 of us gets together at 8:30 am on Wednesday mornings via Zoom. \nPlease give it a try!  https://us02web.zoom.us/j/83156288483
URL:https://ststephenschurch.org/event/gospel-reflection-hour-virtual-2/2026-02-18/
CATEGORIES:Adult Formation
END:VEVENT
BEGIN:VEVENT
DTSTART;TZID=America/Los_Angeles:20260218T120000
DTEND;TZID=America/Los_Angeles:20260218T130000
DTSTAMP:20260420T120326
CREATED:20260115T185224Z
LAST-MODIFIED:20260115T185224Z
UID:10000864-1771416000-1771419600@ststephenschurch.org
SUMMARY:Ash Wednesday Services
DESCRIPTION:There will be two services on Ash Wednesday.  12 pm and 7 pm.
URL:https://ststephenschurch.org/event/ash-wednesday-services/2026-02-18/1/
CATEGORIES:Worship Service
ATTACH;FMTTYPE=image/jpeg:https://ststephenschurch.org/wp-content/uploads/2026/01/Ash-Wednesday-Front-Cover.jpg
END:VEVENT
BEGIN:VEVENT
DTSTART;TZID=America/Los_Angeles:20260218T190000
DTEND;TZID=America/Los_Angeles:20260218T200000
DTSTAMP:20260420T120326
CREATED:20260115T185224Z
LAST-MODIFIED:20260115T185224Z
UID:10000865-1771441200-1771444800@ststephenschurch.org
SUMMARY:Ash Wednesday Services
DESCRIPTION:There will be two services on Ash Wednesday.  12 pm and 7 pm.
URL:https://ststephenschurch.org/event/ash-wednesday-services/2026-02-18/2/
CATEGORIES:Worship Service
ATTACH;FMTTYPE=image/jpeg:https://ststephenschurch.org/wp-content/uploads/2026/01/Ash-Wednesday-Front-Cover.jpg
END:VEVENT
BEGIN:VEVENT
DTSTART;TZID=America/Los_Angeles:20260222T080000
DTEND;TZID=America/Los_Angeles:20260222T090000
DTSTAMP:20260420T120326
CREATED:20250729T195012Z
LAST-MODIFIED:20251105T221620Z
UID:10000306-1771747200-1771750800@ststephenschurch.org
SUMMARY:Eucharist
DESCRIPTION:
URL:https://ststephenschurch.org/event/eucharist/2026-02-22/
CATEGORIES:Worship Service
END:VEVENT
BEGIN:VEVENT
DTSTART;TZID=America/Los_Angeles:20260222T100000
DTEND;TZID=America/Los_Angeles:20260222T110000
DTSTAMP:20260420T120326
CREATED:20250729T195102Z
LAST-MODIFIED:20250729T195102Z
UID:10000567-1771754400-1771758000@ststephenschurch.org
SUMMARY:Choral Eucharist
DESCRIPTION:
URL:https://ststephenschurch.org/event/choral-eucharist/2026-02-22/
CATEGORIES:Worship Service
END:VEVENT
BEGIN:VEVENT
DTSTART;TZID=America/Los_Angeles:20260225T083000
DTEND;TZID=America/Los_Angeles:20260225T093000
DTSTAMP:20260420T120326
CREATED:20251217T192518Z
LAST-MODIFIED:20251217T192520Z
UID:10000046-1772008200-1772011800@ststephenschurch.org
SUMMARY:Gospel Reflection Hour-virtual
DESCRIPTION:Are you interested in joining a Bible Study? St. Stephen’s offers a weekly session that requires no homework or ongoing obligation. Just bring your inquiring mind and an interest in reflecting upon the Gospel lesson for the upcoming Sunday. \nZoila Schoenbrun starts us off by reading the week’s Collect and Gospel lesson\, followed by time for personal reflection and ending with time for us to share our reactions\, questions\, and other thoughts. Kyle talked about this approach during our Lenten story-telling series – it is more than understanding the text intellectually\, it is about making the words of scripture relevant to our own lives. \nA group of 4 – 6 of us gets together at 8:30 am on Wednesday mornings via Zoom. \nPlease give it a try!  https://us02web.zoom.us/j/83156288483
URL:https://ststephenschurch.org/event/gospel-reflection-hour-virtual-2/2026-02-25/
CATEGORIES:Adult Formation
END:VEVENT
BEGIN:VEVENT
DTSTART;TZID=America/Los_Angeles:20260301T080000
DTEND;TZID=America/Los_Angeles:20260301T090000
DTSTAMP:20260420T120326
CREATED:20250729T195012Z
LAST-MODIFIED:20251105T221620Z
UID:10000307-1772352000-1772355600@ststephenschurch.org
SUMMARY:Eucharist
DESCRIPTION:
URL:https://ststephenschurch.org/event/eucharist/2026-03-01/
CATEGORIES:Worship Service
END:VEVENT
BEGIN:VEVENT
DTSTART;TZID=America/Los_Angeles:20260301T100000
DTEND;TZID=America/Los_Angeles:20260301T110000
DTSTAMP:20260420T120326
CREATED:20250729T195102Z
LAST-MODIFIED:20250729T195102Z
UID:10000568-1772359200-1772362800@ststephenschurch.org
SUMMARY:Choral Eucharist
DESCRIPTION:
URL:https://ststephenschurch.org/event/choral-eucharist/2026-03-01/
CATEGORIES:Worship Service
END:VEVENT
BEGIN:VEVENT
DTSTART;TZID=America/Los_Angeles:20260304T083000
DTEND;TZID=America/Los_Angeles:20260304T093000
DTSTAMP:20260420T120326
CREATED:20251217T192518Z
LAST-MODIFIED:20251217T192520Z
UID:10000047-1772613000-1772616600@ststephenschurch.org
SUMMARY:Gospel Reflection Hour-virtual
DESCRIPTION:Are you interested in joining a Bible Study? St. Stephen’s offers a weekly session that requires no homework or ongoing obligation. Just bring your inquiring mind and an interest in reflecting upon the Gospel lesson for the upcoming Sunday. \nZoila Schoenbrun starts us off by reading the week’s Collect and Gospel lesson\, followed by time for personal reflection and ending with time for us to share our reactions\, questions\, and other thoughts. Kyle talked about this approach during our Lenten story-telling series – it is more than understanding the text intellectually\, it is about making the words of scripture relevant to our own lives. \nA group of 4 – 6 of us gets together at 8:30 am on Wednesday mornings via Zoom. \nPlease give it a try!  https://us02web.zoom.us/j/83156288483
URL:https://ststephenschurch.org/event/gospel-reflection-hour-virtual-2/2026-03-04/
CATEGORIES:Adult Formation
END:VEVENT
BEGIN:VEVENT
DTSTART;TZID=America/Los_Angeles:20260308T080000
DTEND;TZID=America/Los_Angeles:20260308T090000
DTSTAMP:20260420T120326
CREATED:20250729T195012Z
LAST-MODIFIED:20251105T221620Z
UID:10000308-1772956800-1772960400@ststephenschurch.org
SUMMARY:Eucharist
DESCRIPTION:
URL:https://ststephenschurch.org/event/eucharist/2026-03-08/
CATEGORIES:Worship Service
END:VEVENT
BEGIN:VEVENT
DTSTART;TZID=America/Los_Angeles:20260308T100000
DTEND;TZID=America/Los_Angeles:20260308T110000
DTSTAMP:20260420T120326
CREATED:20250729T195102Z
LAST-MODIFIED:20250729T195102Z
UID:10000569-1772964000-1772967600@ststephenschurch.org
SUMMARY:Choral Eucharist
DESCRIPTION:
URL:https://ststephenschurch.org/event/choral-eucharist/2026-03-08/
CATEGORIES:Worship Service
END:VEVENT
BEGIN:VEVENT
DTSTART;TZID=America/Los_Angeles:20260308T113000
DTEND;TZID=America/Los_Angeles:20260308T123000
DTSTAMP:20260420T120326
CREATED:20260128T232203Z
LAST-MODIFIED:20260128T232205Z
UID:10000866-1772969400-1772973000@ststephenschurch.org
SUMMARY:Sunday Adult Forum - The changing understanding of Mary Magdalene
DESCRIPTION:Join Karl Belgum in the conference room for a lively and interesting discussion on Mary Magdalene.
URL:https://ststephenschurch.org/event/sunday-adult-forum-the-changing-understanding-of-mary-magdalene/
CATEGORIES:Adult Formation
END:VEVENT
BEGIN:VEVENT
DTSTART;TZID=America/Los_Angeles:20260311T083000
DTEND;TZID=America/Los_Angeles:20260311T093000
DTSTAMP:20260420T120326
CREATED:20251217T192518Z
LAST-MODIFIED:20251217T192520Z
UID:10000048-1773217800-1773221400@ststephenschurch.org
SUMMARY:Gospel Reflection Hour-virtual
DESCRIPTION:Are you interested in joining a Bible Study? St. Stephen’s offers a weekly session that requires no homework or ongoing obligation. Just bring your inquiring mind and an interest in reflecting upon the Gospel lesson for the upcoming Sunday. \nZoila Schoenbrun starts us off by reading the week’s Collect and Gospel lesson\, followed by time for personal reflection and ending with time for us to share our reactions\, questions\, and other thoughts. Kyle talked about this approach during our Lenten story-telling series – it is more than understanding the text intellectually\, it is about making the words of scripture relevant to our own lives. \nA group of 4 – 6 of us gets together at 8:30 am on Wednesday mornings via Zoom. \nPlease give it a try!  https://us02web.zoom.us/j/83156288483
URL:https://ststephenschurch.org/event/gospel-reflection-hour-virtual-2/2026-03-11/
CATEGORIES:Adult Formation
END:VEVENT
BEGIN:VEVENT
DTSTART;TZID=America/Los_Angeles:20260315T080000
DTEND;TZID=America/Los_Angeles:20260315T090000
DTSTAMP:20260420T120326
CREATED:20250729T195012Z
LAST-MODIFIED:20251105T221620Z
UID:10000309-1773561600-1773565200@ststephenschurch.org
SUMMARY:Eucharist
DESCRIPTION:
URL:https://ststephenschurch.org/event/eucharist/2026-03-15/
CATEGORIES:Worship Service
END:VEVENT
BEGIN:VEVENT
DTSTART;TZID=America/Los_Angeles:20260315T100000
DTEND;TZID=America/Los_Angeles:20260315T110000
DTSTAMP:20260420T120326
CREATED:20250729T195102Z
LAST-MODIFIED:20250729T195102Z
UID:10000570-1773568800-1773572400@ststephenschurch.org
SUMMARY:Choral Eucharist
DESCRIPTION:
URL:https://ststephenschurch.org/event/choral-eucharist/2026-03-15/
CATEGORIES:Worship Service
END:VEVENT
BEGIN:VEVENT
DTSTART;TZID=America/Los_Angeles:20260318T083000
DTEND;TZID=America/Los_Angeles:20260318T093000
DTSTAMP:20260420T120326
CREATED:20251217T192518Z
LAST-MODIFIED:20251217T192520Z
UID:10000049-1773822600-1773826200@ststephenschurch.org
SUMMARY:Gospel Reflection Hour-virtual
DESCRIPTION:Are you interested in joining a Bible Study? St. Stephen’s offers a weekly session that requires no homework or ongoing obligation. Just bring your inquiring mind and an interest in reflecting upon the Gospel lesson for the upcoming Sunday. \nZoila Schoenbrun starts us off by reading the week’s Collect and Gospel lesson\, followed by time for personal reflection and ending with time for us to share our reactions\, questions\, and other thoughts. Kyle talked about this approach during our Lenten story-telling series – it is more than understanding the text intellectually\, it is about making the words of scripture relevant to our own lives. \nA group of 4 – 6 of us gets together at 8:30 am on Wednesday mornings via Zoom. \nPlease give it a try!  https://us02web.zoom.us/j/83156288483
URL:https://ststephenschurch.org/event/gospel-reflection-hour-virtual-2/2026-03-18/
CATEGORIES:Adult Formation
END:VEVENT
BEGIN:VEVENT
DTSTART;TZID=America/Los_Angeles:20260322T080000
DTEND;TZID=America/Los_Angeles:20260322T090000
DTSTAMP:20260420T120326
CREATED:20250729T195012Z
LAST-MODIFIED:20251105T221620Z
UID:10000310-1774166400-1774170000@ststephenschurch.org
SUMMARY:Eucharist
DESCRIPTION:
URL:https://ststephenschurch.org/event/eucharist/2026-03-22/
CATEGORIES:Worship Service
END:VEVENT
BEGIN:VEVENT
DTSTART;TZID=America/Los_Angeles:20260322T100000
DTEND;TZID=America/Los_Angeles:20260322T110000
DTSTAMP:20260420T120326
CREATED:20250729T195102Z
LAST-MODIFIED:20250729T195102Z
UID:10000571-1774173600-1774177200@ststephenschurch.org
SUMMARY:Choral Eucharist
DESCRIPTION:
URL:https://ststephenschurch.org/event/choral-eucharist/2026-03-22/
CATEGORIES:Worship Service
END:VEVENT
BEGIN:VEVENT
DTSTART;TZID=America/Los_Angeles:20260322T170000
DTEND;TZID=America/Los_Angeles:20260322T180000
DTSTAMP:20260420T120326
CREATED:20260319T221702Z
LAST-MODIFIED:20260319T221702Z
UID:10000875-1774198800-1774202400@ststephenschurch.org
SUMMARY:Memorial Choral Evensong
DESCRIPTION:Join us at 5pm to celebrate the life of Jim Davenport who was a long-time member of the St. Stephen’s Choir and a pillar in the Marin choral community.  Jim passed away just before New Year’s Eve\, and the loss of his warm persona and voice are greatly missed. Reception to follow in Kimball Hall
URL:https://ststephenschurch.org/event/memorial-choral-evensong/
CATEGORIES:Music
END:VEVENT
BEGIN:VEVENT
DTSTART;TZID=America/Los_Angeles:20260325T083000
DTEND;TZID=America/Los_Angeles:20260325T093000
DTSTAMP:20260420T120326
CREATED:20251217T192518Z
LAST-MODIFIED:20251217T192520Z
UID:10000050-1774427400-1774431000@ststephenschurch.org
SUMMARY:Gospel Reflection Hour-virtual
DESCRIPTION:Are you interested in joining a Bible Study? St. Stephen’s offers a weekly session that requires no homework or ongoing obligation. Just bring your inquiring mind and an interest in reflecting upon the Gospel lesson for the upcoming Sunday. \nZoila Schoenbrun starts us off by reading the week’s Collect and Gospel lesson\, followed by time for personal reflection and ending with time for us to share our reactions\, questions\, and other thoughts. Kyle talked about this approach during our Lenten story-telling series – it is more than understanding the text intellectually\, it is about making the words of scripture relevant to our own lives. \nA group of 4 – 6 of us gets together at 8:30 am on Wednesday mornings via Zoom. \nPlease give it a try!  https://us02web.zoom.us/j/83156288483
URL:https://ststephenschurch.org/event/gospel-reflection-hour-virtual-2/2026-03-25/
CATEGORIES:Adult Formation
END:VEVENT
BEGIN:VEVENT
DTSTART;TZID=America/Los_Angeles:20260329T080000
DTEND;TZID=America/Los_Angeles:20260329T090000
DTSTAMP:20260420T120326
CREATED:20250729T195012Z
LAST-MODIFIED:20251105T221620Z
UID:10000311-1774771200-1774774800@ststephenschurch.org
SUMMARY:Eucharist
DESCRIPTION:
URL:https://ststephenschurch.org/event/eucharist/2026-03-29/
CATEGORIES:Worship Service
END:VEVENT
BEGIN:VEVENT
DTSTART;TZID=America/Los_Angeles:20260329T100000
DTEND;TZID=America/Los_Angeles:20260329T110000
DTSTAMP:20260420T120326
CREATED:20250729T195102Z
LAST-MODIFIED:20250729T195102Z
UID:10000572-1774778400-1774782000@ststephenschurch.org
SUMMARY:Choral Eucharist
DESCRIPTION:
URL:https://ststephenschurch.org/event/choral-eucharist/2026-03-29/
CATEGORIES:Worship Service
END:VEVENT
BEGIN:VEVENT
DTSTART;TZID=America/Los_Angeles:20260401T083000
DTEND;TZID=America/Los_Angeles:20260401T093000
DTSTAMP:20260420T120326
CREATED:20251217T192518Z
LAST-MODIFIED:20251217T192520Z
UID:10000051-1775032200-1775035800@ststephenschurch.org
SUMMARY:Gospel Reflection Hour-virtual
DESCRIPTION:Are you interested in joining a Bible Study? St. Stephen’s offers a weekly session that requires no homework or ongoing obligation. Just bring your inquiring mind and an interest in reflecting upon the Gospel lesson for the upcoming Sunday. \nZoila Schoenbrun starts us off by reading the week’s Collect and Gospel lesson\, followed by time for personal reflection and ending with time for us to share our reactions\, questions\, and other thoughts. Kyle talked about this approach during our Lenten story-telling series – it is more than understanding the text intellectually\, it is about making the words of scripture relevant to our own lives. \nA group of 4 – 6 of us gets together at 8:30 am on Wednesday mornings via Zoom. \nPlease give it a try!  https://us02web.zoom.us/j/83156288483
URL:https://ststephenschurch.org/event/gospel-reflection-hour-virtual-2/2026-04-01/
CATEGORIES:Adult Formation
END:VEVENT
BEGIN:VEVENT
DTSTART;TZID=America/Los_Angeles:20260402T190000
DTEND;TZID=America/Los_Angeles:20260402T200000
DTSTAMP:20260420T120326
CREATED:20260319T221925Z
LAST-MODIFIED:20260319T221925Z
UID:10000876-1775156400-1775160000@ststephenschurch.org
SUMMARY:Maundy Thursday Service
DESCRIPTION:
URL:https://ststephenschurch.org/event/maundy-thursday-service/
CATEGORIES:Worship Service
END:VEVENT
BEGIN:VEVENT
DTSTART;TZID=America/Los_Angeles:20260403T120000
DTEND;TZID=America/Los_Angeles:20260403T130000
DTSTAMP:20260420T120326
CREATED:20260319T222054Z
LAST-MODIFIED:20260319T222054Z
UID:10000877-1775217600-1775221200@ststephenschurch.org
SUMMARY:Good Friday  Service
DESCRIPTION:
URL:https://ststephenschurch.org/event/good-friday-service/
CATEGORIES:Worship Service
END:VEVENT
BEGIN:VEVENT
DTSTART;TZID=America/Los_Angeles:20260405T080000
DTEND;TZID=America/Los_Angeles:20260405T090000
DTSTAMP:20260420T120326
CREATED:20250729T195012Z
LAST-MODIFIED:20251105T221620Z
UID:10000312-1775376000-1775379600@ststephenschurch.org
SUMMARY:Eucharist
DESCRIPTION:
URL:https://ststephenschurch.org/event/eucharist/2026-04-05/
CATEGORIES:Worship Service
END:VEVENT
END:VCALENDAR