BEGIN:VCALENDAR
VERSION:2.0
PRODID:-//St. Stephen&#039;s - ECPv6.15.20//NONSGML v1.0//EN
CALSCALE:GREGORIAN
METHOD:PUBLISH
X-ORIGINAL-URL:https://ststephenschurch.org
X-WR-CALDESC:Events for St. Stephen&#039;s
REFRESH-INTERVAL;VALUE=DURATION:PT1H
X-Robots-Tag:noindex
X-PUBLISHED-TTL:PT1H
BEGIN:VTIMEZONE
TZID:America/Los_Angeles
BEGIN:DAYLIGHT
TZOFFSETFROM:-0800
TZOFFSETTO:-0700
TZNAME:PDT
DTSTART:20240310T100000
END:DAYLIGHT
BEGIN:STANDARD
TZOFFSETFROM:-0700
TZOFFSETTO:-0800
TZNAME:PST
DTSTART:20241103T090000
END:STANDARD
BEGIN:DAYLIGHT
TZOFFSETFROM:-0800
TZOFFSETTO:-0700
TZNAME:PDT
DTSTART:20250309T100000
END:DAYLIGHT
BEGIN:STANDARD
TZOFFSETFROM:-0700
TZOFFSETTO:-0800
TZNAME:PST
DTSTART:20251102T090000
END:STANDARD
BEGIN:DAYLIGHT
TZOFFSETFROM:-0800
TZOFFSETTO:-0700
TZNAME:PDT
DTSTART:20260308T100000
END:DAYLIGHT
BEGIN:STANDARD
TZOFFSETFROM:-0700
TZOFFSETTO:-0800
TZNAME:PST
DTSTART:20261101T090000
END:STANDARD
END:VTIMEZONE
BEGIN:VEVENT
DTSTART;TZID=America/Los_Angeles:20250913T110000
DTEND;TZID=America/Los_Angeles:20250913T150000
DTSTAMP:20260420T034850
CREATED:20250729T194149Z
LAST-MODIFIED:20250912T183215Z
UID:10000010-1757761200-1757775600@ststephenschurch.org
SUMMARY:Sacred Steps
DESCRIPTION:Join St. Stephen’s as we hike the Martha Property\, right in Tiburon. All ages and skill levels are welcome! Adults may pace themselves as they desire. Walk in a group or buddy up with one or two others. Mix up time on your own and time with others.  Youth (6th to 12th graders) and families can walk together with Patrick\, Minister for Children and Youth. If suitable for your younger children\, they are also welcome to join.
URL:https://ststephenschurch.org/event/sacred-steps-2/
CATEGORIES:Hiking
END:VEVENT
BEGIN:VEVENT
DTSTART;TZID=America/Los_Angeles:20250809T110000
DTEND;TZID=America/Los_Angeles:20250809T130000
DTSTAMP:20260420T034850
CREATED:20250729T193635Z
LAST-MODIFIED:20250729T193635Z
UID:10000005-1754737200-1754744400@ststephenschurch.org
SUMMARY:Sacred Steps: Discover Belvedere
DESCRIPTION:Join St. Stephen’s as we walk Belvedere to explore the locations central to our church’s history. All ages and skill levels are welcome! Adults may pace themselves as they desire. Walk in a group or buddy up with one or two others. Mix up time on your own and time with others. Youth (6th to 12th graders) and families can walk together with Patrick\, Minister for Children and Youth. If suitable for your younger children\, they are also welcome to join. Meet at the St. Stephen’s courtyard.
URL:https://ststephenschurch.org/event/sacred-steps-discover-belvedere/
CATEGORIES:Hiking,Youth & Children
END:VEVENT
BEGIN:VEVENT
DTSTART;TZID=America/Los_Angeles:20250712T110000
DTEND;TZID=America/Los_Angeles:20250712T140000
DTSTAMP:20260420T034850
CREATED:20250710T001938Z
LAST-MODIFIED:20250710T001938Z
UID:10000002-1752318000-1752328800@ststephenschurch.org
SUMMARY:Sacred Steps
DESCRIPTION:Join St. Stephen’s as we hike out Tennessee Valley. All ages and skill levels are welcome! Contact Patrick Kangrga for more information or RSVP.
URL:https://ststephenschurch.org/event/sacred-steps/
LOCATION:Tennessee Valley\, Trail Head parking lot
CATEGORIES:Hiking
ATTACH;FMTTYPE=image/jpeg:https://ststephenschurch.org/wp-content/uploads/2025/07/unnamed-4.jpg
ORGANIZER;CN="Patrick Kangrga":MAILTO:patrick@ststephenschurch.org
END:VEVENT
END:VCALENDAR