BEGIN:VCALENDAR
VERSION:2.0
PRODID:-//St. Stephen&#039;s - ECPv6.15.20//NONSGML v1.0//EN
CALSCALE:GREGORIAN
METHOD:PUBLISH
X-ORIGINAL-URL:https://ststephenschurch.org
X-WR-CALDESC:Events for St. Stephen&#039;s
REFRESH-INTERVAL;VALUE=DURATION:PT1H
X-Robots-Tag:noindex
X-PUBLISHED-TTL:PT1H
BEGIN:VTIMEZONE
TZID:America/Los_Angeles
BEGIN:DAYLIGHT
TZOFFSETFROM:-0800
TZOFFSETTO:-0700
TZNAME:PDT
DTSTART:20240310T100000
END:DAYLIGHT
BEGIN:STANDARD
TZOFFSETFROM:-0700
TZOFFSETTO:-0800
TZNAME:PST
DTSTART:20241103T090000
END:STANDARD
BEGIN:DAYLIGHT
TZOFFSETFROM:-0800
TZOFFSETTO:-0700
TZNAME:PDT
DTSTART:20250309T100000
END:DAYLIGHT
BEGIN:STANDARD
TZOFFSETFROM:-0700
TZOFFSETTO:-0800
TZNAME:PST
DTSTART:20251102T090000
END:STANDARD
BEGIN:DAYLIGHT
TZOFFSETFROM:-0800
TZOFFSETTO:-0700
TZNAME:PDT
DTSTART:20260308T100000
END:DAYLIGHT
BEGIN:STANDARD
TZOFFSETFROM:-0700
TZOFFSETTO:-0800
TZNAME:PST
DTSTART:20261101T090000
END:STANDARD
END:VTIMEZONE
BEGIN:VEVENT
DTSTART;TZID=America/Los_Angeles:20251102T160000
DTEND;TZID=America/Los_Angeles:20251102T170000
DTSTAMP:20260420T112424
CREATED:20250910T035950Z
LAST-MODIFIED:20251023T215158Z
UID:10000808-1762099200-1762102800@ststephenschurch.org
SUMMARY:The Duruflé Requeim
DESCRIPTION:Join the St. Stephen’s Choir & Orchestra in the Sanctuary for a quiet afternoon of reflection and remembrance. Dr. Brad Schultz\, organist/conductor
URL:https://ststephenschurch.org/event/concert/
LOCATION:3 Bayview Avenue\, Belvedere\, California\, 94920\, United States
CATEGORIES:Concerts,Music
ATTACH;FMTTYPE=image/jpeg:https://ststephenschurch.org/wp-content/uploads/2025/09/SSC-2025-Durufle-poster--scaled.jpg
END:VEVENT
END:VCALENDAR