BEGIN:VCALENDAR
VERSION:2.0
PRODID:-//St. Stephen&#039;s - ECPv6.15.20//NONSGML v1.0//EN
CALSCALE:GREGORIAN
METHOD:PUBLISH
X-ORIGINAL-URL:https://ststephenschurch.org
X-WR-CALDESC:Events for St. Stephen&#039;s
REFRESH-INTERVAL;VALUE=DURATION:PT1H
X-Robots-Tag:noindex
X-PUBLISHED-TTL:PT1H
BEGIN:VTIMEZONE
TZID:America/Los_Angeles
BEGIN:DAYLIGHT
TZOFFSETFROM:-0800
TZOFFSETTO:-0700
TZNAME:PDT
DTSTART:20250309T100000
END:DAYLIGHT
BEGIN:STANDARD
TZOFFSETFROM:-0700
TZOFFSETTO:-0800
TZNAME:PST
DTSTART:20251102T090000
END:STANDARD
BEGIN:DAYLIGHT
TZOFFSETFROM:-0800
TZOFFSETTO:-0700
TZNAME:PDT
DTSTART:20260308T100000
END:DAYLIGHT
BEGIN:STANDARD
TZOFFSETFROM:-0700
TZOFFSETTO:-0800
TZNAME:PST
DTSTART:20261101T090000
END:STANDARD
BEGIN:DAYLIGHT
TZOFFSETFROM:-0800
TZOFFSETTO:-0700
TZNAME:PDT
DTSTART:20270314T100000
END:DAYLIGHT
BEGIN:STANDARD
TZOFFSETFROM:-0700
TZOFFSETTO:-0800
TZNAME:PST
DTSTART:20271107T090000
END:STANDARD
END:VTIMEZONE
BEGIN:VEVENT
DTSTART;TZID=America/Los_Angeles:20260426T080000
DTEND;TZID=America/Los_Angeles:20260426T090000
DTSTAMP:20260420T021400
CREATED:20250729T195012Z
LAST-MODIFIED:20251105T221620Z
UID:10000315-1777190400-1777194000@ststephenschurch.org
SUMMARY:Eucharist
DESCRIPTION:
URL:https://ststephenschurch.org/event/eucharist/2026-04-26/
CATEGORIES:Worship Service
END:VEVENT
BEGIN:VEVENT
DTSTART;TZID=America/Los_Angeles:20260426T100000
DTEND;TZID=America/Los_Angeles:20260426T110000
DTSTAMP:20260420T021400
CREATED:20250729T195102Z
LAST-MODIFIED:20250729T195102Z
UID:10000576-1777197600-1777201200@ststephenschurch.org
SUMMARY:Choral Eucharist
DESCRIPTION:
URL:https://ststephenschurch.org/event/choral-eucharist/2026-04-26/
CATEGORIES:Worship Service
END:VEVENT
END:VCALENDAR