BEGIN:VCALENDAR
VERSION:2.0
PRODID:-//St. Stephen&#039;s - ECPv6.15.20//NONSGML v1.0//EN
CALSCALE:GREGORIAN
METHOD:PUBLISH
X-WR-CALNAME:St. Stephen&#039;s
X-ORIGINAL-URL:https://ststephenschurch.org
X-WR-CALDESC:Events for St. Stephen&#039;s
REFRESH-INTERVAL;VALUE=DURATION:PT1H
X-Robots-Tag:noindex
X-PUBLISHED-TTL:PT1H
BEGIN:VTIMEZONE
TZID:America/Los_Angeles
BEGIN:DAYLIGHT
TZOFFSETFROM:-0800
TZOFFSETTO:-0700
TZNAME:PDT
DTSTART:20250309T100000
END:DAYLIGHT
BEGIN:STANDARD
TZOFFSETFROM:-0700
TZOFFSETTO:-0800
TZNAME:PST
DTSTART:20251102T090000
END:STANDARD
BEGIN:DAYLIGHT
TZOFFSETFROM:-0800
TZOFFSETTO:-0700
TZNAME:PDT
DTSTART:20260308T100000
END:DAYLIGHT
BEGIN:STANDARD
TZOFFSETFROM:-0700
TZOFFSETTO:-0800
TZNAME:PST
DTSTART:20261101T090000
END:STANDARD
BEGIN:DAYLIGHT
TZOFFSETFROM:-0800
TZOFFSETTO:-0700
TZNAME:PDT
DTSTART:20270314T100000
END:DAYLIGHT
BEGIN:STANDARD
TZOFFSETFROM:-0700
TZOFFSETTO:-0800
TZNAME:PST
DTSTART:20271107T090000
END:STANDARD
END:VTIMEZONE
BEGIN:VEVENT
DTSTART;TZID=America/Los_Angeles:20260419T080000
DTEND;TZID=America/Los_Angeles:20260419T090000
DTSTAMP:20260419T210122
CREATED:20250729T195012Z
LAST-MODIFIED:20251105T221620Z
UID:10000314-1776585600-1776589200@ststephenschurch.org
SUMMARY:Eucharist
DESCRIPTION:
URL:https://ststephenschurch.org/event/eucharist/2026-04-19/
CATEGORIES:Worship Service
END:VEVENT
BEGIN:VEVENT
DTSTART;TZID=America/Los_Angeles:20260419T100000
DTEND;TZID=America/Los_Angeles:20260419T110000
DTSTAMP:20260419T210122
CREATED:20250729T195102Z
LAST-MODIFIED:20250729T195102Z
UID:10000575-1776592800-1776596400@ststephenschurch.org
SUMMARY:Choral Eucharist
DESCRIPTION:
URL:https://ststephenschurch.org/event/choral-eucharist/2026-04-19/
CATEGORIES:Worship Service
END:VEVENT
BEGIN:VEVENT
DTSTART;TZID=America/Los_Angeles:20260419T111500
DTEND;TZID=America/Los_Angeles:20260419T120000
DTSTAMP:20260419T210122
CREATED:20260225T223033Z
LAST-MODIFIED:20260225T223033Z
UID:10000868-1776597300-1776600000@ststephenschurch.org
SUMMARY:Sunday Adult Forum
DESCRIPTION:Join Karl Belgum in the conference room following the 10 am service for a discussion on the TV Series\, “The Chosen”\, episodes 1-6 with emphasis on Mary Magdalene.
URL:https://ststephenschurch.org/event/sunday-adult-forum/
CATEGORIES:Adult Formation
END:VEVENT
BEGIN:VEVENT
DTSTART;TZID=America/Los_Angeles:20260419T150000
DTEND;TZID=America/Los_Angeles:20260419T170000
DTSTAMP:20260419T210122
CREATED:20260402T234650Z
LAST-MODIFIED:20260402T234745Z
UID:10000878-1776610800-1776618000@ststephenschurch.org
SUMMARY:Rise Against Hunger
DESCRIPTION:Join parishioner Regan Moore to package meals for the nonprofit Rise Against Hunger. She was inspired to organize this event at St. Stephen’s after participating last year. Rise Against Hunger delivers meals to the most vulnerable communities and teaches these communities skills to enable self-sufficiency. Please use the link below to sign up to volunteer. \nhttps://riseagainsthunger.org/register/?id=701Pj00000u3GG6IAM
URL:https://ststephenschurch.org/event/rise-against-hunger/
CATEGORIES:Outreach
END:VEVENT
END:VCALENDAR